BEGIN:VCALENDAR
VERSION:2.0
PRODID:DPCALENDAR
CALSCALE:GREGORIAN
BEGIN:VTIMEZONE
TZID:UTC
X-MICROSOFT-CDO-TZID:0
END:VTIMEZONE
X-WR-TIMEZONE:UTC
BEGIN:VEVENT
DTSTART;TZID=UTC:20180518T124500
DTEND;TZID=UTC:20180518T134500
UID:0C7769BE-F93A-445F-A556-30373CC5092E
SUMMARY:Permanence Coopérative
CREATED:20180412T112752Z
DTSTAMP:20180412T112752Z
DESCRIPTION:
X-ALT-DESC;FMTTYPE=text/html:
X-ACCESS:1
X-HITS:10
X-URL:https://fse-cooperativescolaire-amailloux.com/index.php?option=com_dpcalendar&view=event&id=2&Itemid=122
X-COLOR:A1BECC
X-SHOW-END-TIME:1
END:VEVENT
BEGIN:VEVENT
DTSTART;TZID=UTC:20180615T124500
DTEND;TZID=UTC:20180615T134500
UID:8A726123-2419-40B7-8E54-B66E627E2E31
SUMMARY:Permanence Coopérative
CREATED:20180412T112929Z
DTSTAMP:20180412T112929Z
DESCRIPTION:
X-ALT-DESC;FMTTYPE=text/html:
X-ACCESS:1
X-HITS:17
X-URL:https://fse-cooperativescolaire-amailloux.com/index.php?option=com_dpcalendar&view=event&id=3&Itemid=122
X-COLOR:A1BECC
X-SHOW-END-TIME:1
END:VEVENT
BEGIN:VEVENT
DTSTART;TZID=UTC:20180828T080000
DTEND;TZID=UTC:20180828T170000
UID:4CB0CED9-A5EC-4FD5-AC57-050699007767
SUMMARY:Préparation des commandes
CREATED:20180606T082446Z
DTSTAMP:20180606T082446Z
DESCRIPTION:
X-ALT-DESC;FMTTYPE=text/html:
X-ACCESS:1
X-HITS:74
X-URL:https://fse-cooperativescolaire-amailloux.com/index.php?option=com_dpcalendar&view=event&id=5&Itemid=122
X-COLOR:A1BECC
X-SHOW-END-TIME:1
END:VEVENT
BEGIN:VEVENT
DTSTART;TZID=UTC:20180829T093000
DTEND;TZID=UTC:20180829T170000
UID:E9124718-38E1-4CB7-925B-0266299E7390
SUMMARY:Distribution des commandes
CREATED:20180606T082519Z
DTSTAMP:20180606T082519Z
DESCRIPTION:
X-ALT-DESC;FMTTYPE=text/html:
X-ACCESS:1
X-HITS:71
X-URL:https://fse-cooperativescolaire-amailloux.com/index.php?option=com_dpcalendar&view=event&id=6&Itemid=122
X-COLOR:A1BECC
X-SHOW-END-TIME:1
END:VEVENT
BEGIN:VEVENT
DTSTART;TZID=UTC:20180830T160000
DTEND;TZID=UTC:20180830T200000
UID:003CA87C-E324-406E-B9D8-245C30093D3B
SUMMARY:Distribution des commandes
CREATED:20180606T082548Z
DTSTAMP:20180606T082548Z
DESCRIPTION:
X-ALT-DESC;FMTTYPE=text/html:
X-ACCESS:1
X-HITS:64
X-URL:https://fse-cooperativescolaire-amailloux.com/index.php?option=com_dpcalendar&view=event&id=7&Itemid=122
X-COLOR:A1BECC
X-SHOW-END-TIME:1
END:VEVENT
BEGIN:VEVENT
DTSTART;TZID=UTC:20180928T124500
DTEND;TZID=UTC:20180928T134500
UID:18369B19-E14D-4390-8D9E-0574B3C3C711
SUMMARY:permanence coopérative
CREATED:20180906T185147Z
DTSTAMP:20180906T185147Z
DESCRIPTION:
X-ALT-DESC;FMTTYPE=text/html:
X-ACCESS:1
X-HITS:20
X-URL:https://fse-cooperativescolaire-amailloux.com/index.php?option=com_dpcalendar&view=event&id=8&Itemid=122
X-COLOR:A1BECC
X-SHOW-END-TIME:1
END:VEVENT
BEGIN:VEVENT
DTSTART;TZID=UTC:20181109T124500
DTEND;TZID=UTC:20181109T134500
UID:18FF3D9C-C8E8-4E63-9A96-3E48A72D9B6B
SUMMARY:permanence coopérative
CREATED:20180906T185227Z
DTSTAMP:20180906T185227Z
DESCRIPTION:
X-ALT-DESC;FMTTYPE=text/html:
X-ACCESS:1
X-HITS:37
X-URL:https://fse-cooperativescolaire-amailloux.com/index.php?option=com_dpcalendar&view=event&id=9&Itemid=122
X-COLOR:A1BECC
X-SHOW-END-TIME:1
END:VEVENT
BEGIN:VEVENT
DTSTART;TZID=UTC:20181214T124500
DTEND;TZID=UTC:20181214T134500
UID:812BA480-2D51-4514-BC98-FFFF5E28AA62
SUMMARY:permanence coopérative
CREATED:20180906T185327Z
DTSTAMP:20180906T185327Z
DESCRIPTION:
X-ALT-DESC;FMTTYPE=text/html:
X-ACCESS:1
X-HITS:70
X-URL:https://fse-cooperativescolaire-amailloux.com/index.php?option=com_dpcalendar&view=event&id=12&Itemid=122
X-COLOR:A1BECC
X-SHOW-END-TIME:1
END:VEVENT
BEGIN:VEVENT
DTSTART;TZID=UTC:20190118T124500
DTEND;TZID=UTC:20190118T134500
UID:EB8445C2-6172-4E75-8893-9CED6266790B
SUMMARY:permanence coopérative
CREATED:20180906T185259Z
DTSTAMP:20180906T185259Z
DESCRIPTION:
X-ALT-DESC;FMTTYPE=text/html:
X-ACCESS:1
X-HITS:66
X-URL:https://fse-cooperativescolaire-amailloux.com/index.php?option=com_dpcalendar&view=event&id=11&Itemid=122
X-COLOR:A1BECC
X-SHOW-END-TIME:1
END:VEVENT
BEGIN:VEVENT
DTSTART;TZID=UTC:20190405T124500
DTEND;TZID=UTC:20190405T134500
UID:345101E0-1CC7-4D15-8306-F4CC9EA18AC7
SUMMARY:permanence coopérative
CREATED:20180906T185405Z
DTSTAMP:20180906T185405Z
DESCRIPTION:
X-ALT-DESC;FMTTYPE=text/html:
X-ACCESS:1
X-HITS:97
X-URL:https://fse-cooperativescolaire-amailloux.com/index.php?option=com_dpcalendar&view=event&id=14&Itemid=122
X-COLOR:A1BECC
X-SHOW-END-TIME:1
END:VEVENT
BEGIN:VEVENT
DTSTART;TZID=UTC:20190517T124500
DTEND;TZID=UTC:20190517T134500
UID:2A3766F7-06D6-4B9E-B9D6-7ED7AC5C0581
SUMMARY:permanence coopérative
CREATED:20180906T185421Z
DTSTAMP:20180906T185421Z
DESCRIPTION:
X-ALT-DESC;FMTTYPE=text/html:
X-ACCESS:1
X-HITS:109
X-URL:https://fse-cooperativescolaire-amailloux.com/index.php?option=com_dpcalendar&view=event&id=15&Itemid=122
X-COLOR:A1BECC
X-SHOW-END-TIME:1
END:VEVENT
BEGIN:VEVENT
DTSTART;TZID=UTC:20190614T124500
DTEND;TZID=UTC:20190614T134500
UID:8553DC80-51F7-449D-ADC3-76978EE4156E
SUMMARY:permanence coopérative
CREATED:20180906T185452Z
DTSTAMP:20180906T185452Z
DESCRIPTION:
X-ALT-DESC;FMTTYPE=text/html:
X-ACCESS:1
X-HITS:178
X-URL:https://fse-cooperativescolaire-amailloux.com/index.php?option=com_dpcalendar&view=event&id=16&Itemid=122
X-COLOR:A1BECC
X-SHOW-END-TIME:1
END:VEVENT
BEGIN:VEVENT
DTSTART;TZID=UTC:20190827T080000
DTEND;TZID=UTC:20190827T100000
UID:7ECF9757-CFA1-4046-8A09-76AB5A4A5007
SUMMARY:Réception des Marchandises
CREATED:20190718T072402Z
DTSTAMP:20190718T072402Z
DESCRIPTION:
X-ALT-DESC;FMTTYPE=text/html:
X-ACCESS:1
X-HITS:222
X-URL:https://fse-cooperativescolaire-amailloux.com/index.php?option=com_dpcalendar&view=event&id=17&Itemid=122
X-COLOR:A1BECC
X-SHOW-END-TIME:1
END:VEVENT
BEGIN:VEVENT
DTSTART;TZID=UTC:20190827T100000
DTEND;TZID=UTC:20190827T120000
UID:1CEB51FD-7D2C-4241-9CD6-EE6EC97BEDC7
SUMMARY:Préparation des Commandes
CREATED:20190718T072437Z
DTSTAMP:20190718T072437Z
DESCRIPTION:
X-ALT-DESC;FMTTYPE=text/html:
X-ACCESS:1
X-HITS:237
X-URL:https://fse-cooperativescolaire-amailloux.com/index.php?option=com_dpcalendar&view=event&id=18&Itemid=122
X-COLOR:A1BECC
X-SHOW-END-TIME:1
END:VEVENT
BEGIN:VEVENT
DTSTART;TZID=UTC:20190827T140000
DTEND;TZID=UTC:20190827T170000
UID:CB44EF27-C96C-419B-B784-5ABDE5AC0713
SUMMARY:Préparation des Commandes
CREATED:20190718T072506Z
DTSTAMP:20190718T072506Z
DESCRIPTION:
X-ALT-DESC;FMTTYPE=text/html:
X-ACCESS:1
X-HITS:208
X-URL:https://fse-cooperativescolaire-amailloux.com/index.php?option=com_dpcalendar&view=event&id=19&Itemid=122
X-COLOR:A1BECC
X-SHOW-END-TIME:1
END:VEVENT
BEGIN:VEVENT
DTSTART;TZID=UTC:20190828T100000
DTEND;TZID=UTC:20190828T170000
UID:3E7559E6-1E9D-46F3-89C7-12F0107F5A88
SUMMARY:Distribution des Commandes
CREATED:20190718T072836Z
DTSTAMP:20190718T072836Z
DESCRIPTION:
X-ALT-DESC;FMTTYPE=text/html:
X-ACCESS:1
X-HITS:822
X-URL:https://fse-cooperativescolaire-amailloux.com/index.php?option=com_dpcalendar&view=event&id=23&Itemid=122
X-COLOR:A1BECC
X-SHOW-END-TIME:1
END:VEVENT
BEGIN:VEVENT
DTSTART;TZID=UTC:20190829T160000
DTEND;TZID=UTC:20190829T200000
UID:6161EA2D-CC0B-435D-9C23-B0D1B6412E53
SUMMARY:Distribution des Commandes
CREATED:20190718T072659Z
DTSTAMP:20190718T072659Z
DESCRIPTION:
X-ALT-DESC;FMTTYPE=text/html:
X-ACCESS:1
X-HITS:251
X-URL:https://fse-cooperativescolaire-amailloux.com/index.php?option=com_dpcalendar&view=event&id=22&Itemid=122
X-COLOR:A1BECC
X-SHOW-END-TIME:1
END:VEVENT
BEGIN:VEVENT
DTSTART;TZID=UTC:20190927T124500
DTEND;TZID=UTC:20190927T134500
UID:6EB2813A-9503-496F-8A86-891110AB52B0
SUMMARY:Permanence CoopSco
CREATED:20180906T185452Z
DTSTAMP:20180906T185452Z
DESCRIPTION:
X-ALT-DESC;FMTTYPE=text/html:
LAST-MODIFIED:20190831T080052Z
SEQUENCE:30978360
X-ACCESS:1
X-HITS:206
X-URL:https://fse-cooperativescolaire-amailloux.com/index.php?option=com_dpcalendar&view=event&id=24&Itemid=122
X-COLOR:A1BECC
X-SHOW-END-TIME:1
END:VEVENT
BEGIN:VEVENT
DTSTART;TZID=UTC:20191108T124500
DTEND;TZID=UTC:20191108T134500
UID:9791F290-5CBB-41D7-BF80-E3D77F0EE494
SUMMARY:Permanence CoopSco
CREATED:20180906T185452Z
DTSTAMP:20180906T185452Z
DESCRIPTION:
X-ALT-DESC;FMTTYPE=text/html:
LAST-MODIFIED:20190831T080332Z
SEQUENCE:30978520
X-ACCESS:1
X-HITS:229
X-URL:https://fse-cooperativescolaire-amailloux.com/index.php?option=com_dpcalendar&view=event&id=25&Itemid=122
X-COLOR:A1BECC
X-SHOW-END-TIME:1
END:VEVENT
BEGIN:VEVENT
DTSTART;TZID=UTC:20191213T124500
DTEND;TZID=UTC:20191213T134500
UID:8E43DCAD-70EF-4A16-83C7-6F21E78F7AE5
SUMMARY:Permanence CoopSco
CREATED:20180906T185452Z
DTSTAMP:20180906T185452Z
DESCRIPTION:
X-ALT-DESC;FMTTYPE=text/html:
LAST-MODIFIED:20190831T080721Z
SEQUENCE:30978749
X-ACCESS:1
X-HITS:403
X-URL:https://fse-cooperativescolaire-amailloux.com/index.php?option=com_dpcalendar&view=event&id=26&Itemid=122
X-COLOR:A1BECC
X-SHOW-END-TIME:1
END:VEVENT
BEGIN:VEVENT
DTSTART;TZID=UTC:20200117T124500
DTEND;TZID=UTC:20200117T134500
UID:EF0A1B1B-08E0-451D-BEDB-9633933064D1
SUMMARY:Permanence CoopSco
CREATED:20180906T185452Z
DTSTAMP:20180906T185452Z
DESCRIPTION:
X-ALT-DESC;FMTTYPE=text/html:
LAST-MODIFIED:20190831T080749Z
SEQUENCE:30978777
X-ACCESS:1
X-HITS:256
X-URL:https://fse-cooperativescolaire-amailloux.com/index.php?option=com_dpcalendar&view=event&id=27&Itemid=122
X-COLOR:A1BECC
X-SHOW-END-TIME:1
END:VEVENT
BEGIN:VEVENT
DTSTART;TZID=UTC:20200306T124500
DTEND;TZID=UTC:20200306T134500
UID:0B6F5648-02D1-42D3-AA2F-04933D434F44
SUMMARY:Permanence CoopSco 
CREATED:20180906T185452Z
DTSTAMP:20180906T185452Z
DESCRIPTION:
X-ALT-DESC;FMTTYPE=text/html:
LAST-MODIFIED:20190831T080912Z
SEQUENCE:30978860
X-ACCESS:1
X-HITS:276
X-URL:https://fse-cooperativescolaire-amailloux.com/index.php?option=com_dpcalendar&view=event&id=29&Itemid=122
X-COLOR:A1BECC
X-SHOW-END-TIME:1
END:VEVENT
BEGIN:VEVENT
DTSTART;TZID=UTC:20200403T124500
DTEND;TZID=UTC:20200403T134500
UID:73A2F03F-504E-493E-8145-B7929B0CB02D
SUMMARY:Permanence CoopSco 
CREATED:20180906T185452Z
DTSTAMP:20180906T185452Z
DESCRIPTION:
X-ALT-DESC;FMTTYPE=text/html:
LAST-MODIFIED:20190831T104811Z
SEQUENCE:30988399
X-ACCESS:1
X-HITS:796
X-URL:https://fse-cooperativescolaire-amailloux.com/index.php?option=com_dpcalendar&view=event&id=32&Itemid=122
X-COLOR:A1BECC
X-SHOW-END-TIME:1
END:VEVENT
BEGIN:VEVENT
DTSTART;TZID=UTC:20200515T124500
DTEND;TZID=UTC:20200515T134500
UID:BC3109B7-2D8B-494D-A475-09BDB4A14C84
SUMMARY:Permanence CoopSco 
CREATED:20180906T185452Z
DTSTAMP:20180906T185452Z
DESCRIPTION:
X-ALT-DESC;FMTTYPE=text/html:
LAST-MODIFIED:20190831T104834Z
SEQUENCE:30988422
X-ACCESS:1
X-HITS:495
X-URL:https://fse-cooperativescolaire-amailloux.com/index.php?option=com_dpcalendar&view=event&id=33&Itemid=122
X-COLOR:A1BECC
X-SHOW-END-TIME:1
END:VEVENT
BEGIN:VEVENT
DTSTART;TZID=UTC:20200612T124500
DTEND;TZID=UTC:20200612T134500
UID:E938A804-B176-4913-86D9-6B9480EBF7F6
SUMMARY:Permanence CoopSco 
CREATED:20180906T185452Z
DTSTAMP:20180906T185452Z
DESCRIPTION:
X-ALT-DESC;FMTTYPE=text/html:
LAST-MODIFIED:20190831T104907Z
SEQUENCE:30988455
X-ACCESS:1
X-HITS:495
X-URL:https://fse-cooperativescolaire-amailloux.com/index.php?option=com_dpcalendar&view=event&id=34&Itemid=122
X-COLOR:A1BECC
X-SHOW-END-TIME:1
END:VEVENT
BEGIN:VEVENT
DTSTART;TZID=UTC:20200825T080000
DTEND;TZID=UTC:20200825T100000
UID:C24EE0D6-1115-46FD-A6E1-FA93A4093C47
SUMMARY:Réception des Fournitures
CREATED:20200707T133519Z
DTSTAMP:20200707T133519Z
DESCRIPTION:
X-ALT-DESC;FMTTYPE=text/html:
X-ACCESS:1
X-HITS:430
X-URL:https://fse-cooperativescolaire-amailloux.com/index.php?option=com_dpcalendar&view=event&id=35&Itemid=122
X-COLOR:A1BECC
X-SHOW-END-TIME:1
END:VEVENT
BEGIN:VEVENT
DTSTART;TZID=UTC:20200825T100000
DTEND;TZID=UTC:20200825T120000
UID:EA5B8977-782A-4AF9-AE78-EB3C81F2A9EF
SUMMARY:Préparation des Commades
CREATED:20200707T133553Z
DTSTAMP:20200707T133553Z
DESCRIPTION:
X-ALT-DESC;FMTTYPE=text/html:
X-ACCESS:1
X-HITS:349
X-URL:https://fse-cooperativescolaire-amailloux.com/index.php?option=com_dpcalendar&view=event&id=36&Itemid=122
X-COLOR:A1BECC
X-SHOW-END-TIME:1
END:VEVENT
BEGIN:VEVENT
DTSTART;TZID=UTC:20200825T140000
DTEND;TZID=UTC:20200825T170000
UID:055F4D99-C415-47FE-8309-20C88376C382
SUMMARY:Préparation des Commandes
CREATED:20200707T133628Z
DTSTAMP:20200707T133628Z
DESCRIPTION:
X-ALT-DESC;FMTTYPE=text/html:
X-ACCESS:1
X-HITS:342
X-URL:https://fse-cooperativescolaire-amailloux.com/index.php?option=com_dpcalendar&view=event&id=37&Itemid=122
X-COLOR:A1BECC
X-SHOW-END-TIME:1
END:VEVENT
BEGIN:VEVENT
DTSTART;TZID=UTC:20200826T100000
DTEND;TZID=UTC:20200826T170000
UID:FA16E042-4C89-4B6E-BF92-EFA52132E606
SUMMARY:Distribution des commandes
CREATED:20200707T134130Z
DTSTAMP:20200707T134130Z
DESCRIPTION:
X-ALT-DESC;FMTTYPE=text/html:
X-ACCESS:1
X-HITS:380
X-URL:https://fse-cooperativescolaire-amailloux.com/index.php?option=com_dpcalendar&view=event&id=40&Itemid=122
X-COLOR:A1BECC
X-SHOW-END-TIME:1
END:VEVENT
BEGIN:VEVENT
DTSTART;TZID=UTC:20200827T161500
DTEND;TZID=UTC:20200827T194500
UID:14078640-3DEB-4ED7-94BA-BE48DFF92457
SUMMARY:Distribution des commandes
CREATED:20200707T134211Z
DTSTAMP:20200707T134211Z
DESCRIPTION:
X-ALT-DESC;FMTTYPE=text/html:
X-ACCESS:1
X-HITS:419
X-URL:https://fse-cooperativescolaire-amailloux.com/index.php?option=com_dpcalendar&view=event&id=41&Itemid=122
X-COLOR:A1BECC
X-SHOW-END-TIME:1
END:VEVENT
BEGIN:VEVENT
DTSTART;TZID=UTC:20200925T124500
DTEND;TZID=UTC:20200925T134500
UID:5DBC16FB-5889-47C0-B1AF-51FF96861814
SUMMARY:Permanence CoopScO
CREATED:20200828T083244Z
DTSTAMP:20200828T083244Z
DESCRIPTION:
X-ALT-DESC;FMTTYPE=text/html:
X-ACCESS:1
X-HITS:349
X-URL:https://fse-cooperativescolaire-amailloux.com/index.php?option=com_dpcalendar&view=event&id=42&Itemid=122
X-COLOR:A1BECC
X-SHOW-END-TIME:1
END:VEVENT
BEGIN:VEVENT
DTSTART;TZID=UTC:20201006T183000
DTEND;TZID=UTC:20201006T193000
UID:BB7DF36A-4A29-4C60-A6E0-222B7A7EB3D5
SUMMARY:Assemblée Générale FSE
CREATED:20200921T083012Z
DTSTAMP:20200921T083012Z
DESCRIPTION:
X-ALT-DESC;FMTTYPE=text/html:
X-ACCESS:1
X-HITS:260
X-URL:https://fse-cooperativescolaire-amailloux.com/index.php?option=com_dpcalendar&view=event&id=50&Itemid=122
X-COLOR:A1BECC
X-SHOW-END-TIME:1
END:VEVENT
BEGIN:VEVENT
DTSTART;TZID=UTC:20201106T124500
DTEND;TZID=UTC:20201106T134500
UID:4BDB7408-9D3E-4B2E-82BA-D8CBA6265214
SUMMARY:Permanence CoopSco
CREATED:20200828T083321Z
DTSTAMP:20200828T083321Z
DESCRIPTION:
X-ALT-DESC;FMTTYPE=text/html:
X-ACCESS:1
X-HITS:347
X-URL:https://fse-cooperativescolaire-amailloux.com/index.php?option=com_dpcalendar&view=event&id=43&Itemid=122
X-COLOR:A1BECC
X-SHOW-END-TIME:1
END:VEVENT
BEGIN:VEVENT
DTSTART;TZID=UTC:20201211T124500
DTEND;TZID=UTC:20201211T134500
UID:9D07E937-77AF-4CD1-8B4B-AB1BA683B809
SUMMARY:Permanence CoopSco
CREATED:20200828T083401Z
DTSTAMP:20200828T083401Z
DESCRIPTION:
X-ALT-DESC;FMTTYPE=text/html:
X-ACCESS:1
X-HITS:398
X-URL:https://fse-cooperativescolaire-amailloux.com/index.php?option=com_dpcalendar&view=event&id=44&Itemid=122
X-COLOR:A1BECC
X-SHOW-END-TIME:1
END:VEVENT
BEGIN:VEVENT
DTSTART;TZID=UTC:20210129T124500
DTEND;TZID=UTC:20210129T134500
UID:8934B216-EC1D-4AE9-BF1D-D6AC9BA615B2
SUMMARY:Permanence CoopSco
CREATED:20200828T083421Z
DTSTAMP:20200828T083421Z
DESCRIPTION:
X-ALT-DESC;FMTTYPE=text/html:
X-ACCESS:1
X-HITS:394
X-URL:https://fse-cooperativescolaire-amailloux.com/index.php?option=com_dpcalendar&view=event&id=45&Itemid=122
X-COLOR:A1BECC
X-SHOW-END-TIME:1
END:VEVENT
BEGIN:VEVENT
DTSTART;TZID=UTC:20210319T124500
DTEND;TZID=UTC:20210319T134500
UID:68BFB90A-0F71-4A65-BF5C-5CB95934410F
SUMMARY:Permanence CoopSco
CREATED:20200828T083452Z
DTSTAMP:20200828T083452Z
DESCRIPTION:
X-ALT-DESC;FMTTYPE=text/html:
X-ACCESS:1
X-HITS:465
X-URL:https://fse-cooperativescolaire-amailloux.com/index.php?option=com_dpcalendar&view=event&id=46&Itemid=122
X-COLOR:A1BECC
X-SHOW-END-TIME:1
END:VEVENT
BEGIN:VEVENT
DTSTART;TZID=UTC:20210423T124500
DTEND;TZID=UTC:20210423T134500
UID:B6F93528-DCEA-4721-93C8-0A46122A16C0
SUMMARY:Permanence CoopSco
CREATED:20200828T083652Z
DTSTAMP:20200828T083652Z
DESCRIPTION:
X-ALT-DESC;FMTTYPE=text/html:
X-ACCESS:1
X-HITS:429
X-URL:https://fse-cooperativescolaire-amailloux.com/index.php?option=com_dpcalendar&view=event&id=47&Itemid=122
X-COLOR:A1BECC
X-SHOW-END-TIME:1
END:VEVENT
BEGIN:VEVENT
DTSTART;TZID=UTC:20210528T124500
DTEND;TZID=UTC:20210528T134500
UID:C438B6AB-309F-41B0-B75D-9C6ABB26A823
SUMMARY:Permanence CoopSco
CREATED:20200828T083713Z
DTSTAMP:20200828T083713Z
DESCRIPTION:
X-ALT-DESC;FMTTYPE=text/html:
X-ACCESS:1
X-HITS:389
X-URL:https://fse-cooperativescolaire-amailloux.com/index.php?option=com_dpcalendar&view=event&id=48&Itemid=122
X-COLOR:A1BECC
X-SHOW-END-TIME:1
END:VEVENT
BEGIN:VEVENT
DTSTART;TZID=UTC:20210625T124500
DTEND;TZID=UTC:20210625T134500
UID:D0B0959D-33FB-4F36-AAB3-F728BB4A177E
SUMMARY:Permanence CoopSco
CREATED:20200828T083739Z
DTSTAMP:20200828T083739Z
DESCRIPTION:
X-ALT-DESC;FMTTYPE=text/html:
X-ACCESS:1
X-HITS:377
X-URL:https://fse-cooperativescolaire-amailloux.com/index.php?option=com_dpcalendar&view=event&id=49&Itemid=122
X-COLOR:A1BECC
X-SHOW-END-TIME:1
END:VEVENT
BEGIN:VEVENT
DTSTART;TZID=UTC:20211022T123000
DTEND;TZID=UTC:20211022T133000
UID:42CD0938-2A2E-4921-9A21-05D0AF307E23
SUMMARY:Permanence CoopSco
CREATED:20211019T112941Z
DTSTAMP:20211019T112941Z
DESCRIPTION:
X-ALT-DESC;FMTTYPE=text/html:
X-ACCESS:1
X-HITS:46
X-URL:https://fse-cooperativescolaire-amailloux.com/index.php?option=com_dpcalendar&view=event&id=51&Itemid=122
X-COLOR:A1BECC
X-SHOW-END-TIME:1
END:VEVENT
BEGIN:VEVENT
DTSTART;TZID=UTC:20220204T123000
DTEND;TZID=UTC:20220204T133000
UID:7B6BD201-E733-4FCE-9FA0-FD23DE01C9B6
SUMMARY:Permanence CoopSco
CREATED:20211019T113051Z
DTSTAMP:20211019T113051Z
DESCRIPTION:
X-ALT-DESC;FMTTYPE=text/html:
X-ACCESS:1
X-HITS:370
X-URL:https://fse-cooperativescolaire-amailloux.com/index.php?option=com_dpcalendar&view=event&id=53&Itemid=122
X-COLOR:A1BECC
X-SHOW-END-TIME:1
END:VEVENT
BEGIN:VEVENT
DTSTART;TZID=UTC:20220408T123000
DTEND;TZID=UTC:20220408T133000
UID:B4B75080-7EC9-4D24-B698-BCAFD35F9F2C
SUMMARY:Permanence CoopSco
CREATED:20211019T113109Z
DTSTAMP:20211019T113109Z
DESCRIPTION:
X-ALT-DESC;FMTTYPE=text/html:
X-ACCESS:1
X-HITS:424
X-URL:https://fse-cooperativescolaire-amailloux.com/index.php?option=com_dpcalendar&view=event&id=54&Itemid=122
X-COLOR:A1BECC
X-SHOW-END-TIME:1
END:VEVENT
BEGIN:VEVENT
DTSTART;VALUE=DATE:20230603
DTEND;VALUE=DATE:20230626
UID:CE72DAFE-B76B-492F-B905-50772EFF0833
SUMMARY:Ouverture du site de commande de fournitures
CREATED:20230531T104914Z
DTSTAMP:20230531T104914Z
DESCRIPTION:
X-ALT-DESC;FMTTYPE=text/html:
X-ACCESS:1
X-HITS:72
X-URL:https://cmd.fse-cooperativescolaire-amailloux.com/
X-COLOR:A1BECC
X-SHOW-END-TIME:0
END:VEVENT
BEGIN:VEVENT
DTSTART;TZID=UTC:20230830T100000
DTEND;TZID=UTC:20230830T170000
UID:0ACEC895-8BCD-455B-B51F-98AD5386419E
SUMMARY:Distribution des commandes de fournitures
CREATED:20230531T104640Z
DTSTAMP:20230531T104640Z
DESCRIPTION:Vos commandes pour l'année 2023/2024 sont à venir chercher au collège.
X-ALT-DESC;FMTTYPE=text/html:<p>Vos commandes pour l'année 2023/2024 sont à venir chercher au collège.</p>
X-ACCESS:1
X-HITS:316
X-URL:https://fse-cooperativescolaire-amailloux.com/index.php?option=com_dpcalendar&view=event&id=55&Itemid=122
X-COLOR:A1BECC
X-SHOW-END-TIME:1
END:VEVENT
BEGIN:VEVENT
DTSTART;TZID=UTC:20230831T160000
DTEND;TZID=UTC:20230831T200000
UID:43EDC82C-F386-4FAE-86B5-282E482F68E5
SUMMARY:Distribution des commandes de fournitures
CREATED:20230531T104720Z
DTSTAMP:20230531T104720Z
DESCRIPTION:Vos commandes pour l'année 2023/2024 sont à venir chercher au collège.
X-ALT-DESC;FMTTYPE=text/html:<p>Vos commandes pour l'année 2023/2024 sont à venir chercher au collège.</p>
X-ACCESS:1
X-HITS:313
X-URL:https://fse-cooperativescolaire-amailloux.com/index.php?option=com_dpcalendar&view=event&id=56&Itemid=122
X-COLOR:A1BECC
X-SHOW-END-TIME:1
END:VEVENT
BEGIN:VEVENT
DTSTART;TZID=UTC:20230926T180000
DTEND;TZID=UTC:20230926T200000
UID:169BEC2B-F571-4AF2-8EA9-520B11AC0479
SUMMARY:AG DU 02/10/2023
CREATED:20230926T163912Z
DTSTAMP:20230926T163912Z
DESCRIPTION:\NLe lundi 02 octobre 2023 à partir 18h au collège, vous êtes conviés à l'Assemblée générale de l'association.\N\NIl sera question entre autre de :- bilan de l'année scolaire 22-23- échanges sur les prochains projets- élection du bureauEn fin de réunion, moment de partage autour d'un verre de l'amitié !\N\Nau plaisir de vous voir\N
X-ALT-DESC;FMTTYPE=text/html:<p><span class="small" title="uncategorised"></span></p><p>Le <strong>lundi 02 octobre 2023 à partir 18h au collège</strong>, vous êtes conviés à l'Assemblée générale de l'association.</p><p><span class="small" title="uncategorised"></span></p><p>Il sera question entre autre de :<br />- bilan de l'année scolaire 22-23<br />- échanges sur les prochains projets<br />- élection du bureau<br />En fin de réunion, moment de partage autour d'un verre de l'amitié !</p><p><span class="small" title="uncategorised"></span></p><p>au plaisir de vous voir</p><p><span class="small" title="uncategorised"></span></p>
LAST-MODIFIED:20230926T164108Z
SEQUENCE:116
X-ACCESS:1
X-HITS:6
X-URL:https://fse-cooperativescolaire-amailloux.com/index.php?option=com_dpcalendar&view=event&id=58&Itemid=122
X-COLOR:A1BECC
X-SHOW-END-TIME:0
END:VEVENT
BEGIN:VEVENT
DTSTART;TZID=UTC:20241001T183000
DTEND;TZID=UTC:20241001T203000
UID:B6241CC7-E67B-4681-BD8A-C21B0B109667
SUMMARY:AG de l’année 2023-2024
CREATED:20240904T194025Z
DTSTAMP:20240904T194025Z
DESCRIPTION:Le mardi 1er octobre 2024 à partir 18h30 au Collège Auguste Mailloux (dans les préfas), vous êtes conviés à l'Assemblée générale de l'association.\NIl sera question entre autre de :- bilan de l'année scolaire 23-24- échanges sur les prochains projets- élection du bureauEn fin de réunion, moment de partage autour d'un verre de l'amitié !\Nau plaisir de vous voir
X-ALT-DESC;FMTTYPE=text/html:<p>Le<strong>&nbsp;mardi 1er octobre 2024 à partir 18h30 au Collège Auguste Mailloux (dans les préfas)</strong>, vous êtes conviés à l'Assemblée générale de l'association.</p><p>Il sera question entre autre de :<br />- bilan de l'année scolaire 23-24<br />- échanges sur les prochains projets<br />- élection du bureau<br />En fin de réunion, moment de partage autour d'un verre de l'amitié !</p><p>au plaisir de vous voir</p>
LAST-MODIFIED:20240911T144228Z
SEQUENCE:586923
X-ACCESS:1
X-HITS:142
X-URL:https://fse-cooperativescolaire-amailloux.com/index.php?option=com_dpcalendar&view=event&id=59&Itemid=122
X-COLOR:A1BECC
X-SHOW-END-TIME:0
END:VEVENT
BEGIN:VEVENT
DTSTART;TZID=UTC:20250414T130000
DTEND;TZID=UTC:20250531T140000
UID:F8C8AE0C-19D4-48D9-B8E1-E5201B2352DC
SUMMARY:Vente de brioches
CREATED:20250414T131311Z
DTSTAMP:20250414T131311Z
DESCRIPTION:Vente de brioches de la maison Bonnin pour financer diverses actions (sorties et voyages scolaires, matériels, fête de fin d'année).\NDistribution des brioches le 26 mai 2025 au collège.Les bons de commandes seront très bientôt donnés aux élèves
X-ALT-DESC;FMTTYPE=text/html:<p>Vente de brioches de la maison Bonnin pour financer diverses actions (sorties et voyages scolaires, matériels, fête de fin d'année).</p><p>Distribution des brioches le 26 mai 2025 au collège.<br />Les bons de commandes seront très bientôt donnés aux élèves</p>
X-ACCESS:1
X-HITS:1
X-URL:https://fse-cooperativescolaire-amailloux.com/index.php?option=com_dpcalendar&view=event&id=60&Itemid=122
X-COLOR:A1BECC
X-SHOW-END-TIME:1
END:VEVENT
BEGIN:VEVENT
DTSTART;TZID=UTC:20250414T130000
DTEND;TZID=UTC:20250531T140000
UID:068A87A9-F46E-450C-8954-0342952191EC
SUMMARY:Voyages scolaires : Bilbao, Auvergne
CREATED:20250414T131401Z
DTSTAMP:20250414T131401Z
DESCRIPTION:
X-ALT-DESC;FMTTYPE=text/html:
LAST-MODIFIED:20250414T131959Z
SEQUENCE:358
X-ACCESS:1
X-HITS:2
X-URL:https://fse-cooperativescolaire-amailloux.com/index.php?option=com_dpcalendar&view=event&id=61&Itemid=122
X-COLOR:A1BECC
X-SHOW-END-TIME:1
END:VEVENT
BEGIN:VEVENT
DTSTART;VALUE=DATE:20250601
DTEND;VALUE=DATE:20250701
UID:1DC8D99B-E4B0-490E-9A96-EF082DB4B21F
SUMMARY:Ouverture du site de commande de fournitures
CREATED:20250529T092534Z
DTSTAMP:20250529T092534Z
DESCRIPTION:Commandez vous fournitures scolaire par l'intermédiaire du site de la CoopSco: passer commande\NNouveauté cette année, le règlement par carte bancaire est possible.
X-ALT-DESC;FMTTYPE=text/html:<p>Commandez vous fournitures scolaire par l'intermédiaire du site de la CoopSco:&nbsp;<a href="index.php?option=com_content&amp;view=article&amp;id=6&amp;Itemid=112">passer commande</a></p><p><span style="color: #ff0000;">Nouveauté cette année, le règlement par carte bancaire est possible.</span></p>
LAST-MODIFIED:20250529T100220Z
SEQUENCE:2206
X-ACCESS:1
X-HITS:168
X-URL:https://fse-cooperativescolaire-amailloux.com/index.php?option=com_dpcalendar&view=event&id=67&Itemid=122
X-COLOR:A1BECC
X-SHOW-END-TIME:1
END:VEVENT
BEGIN:VEVENT
DTSTART;TZID=UTC:20250827T080000
DTEND;TZID=UTC:20250827T140000
UID:C84BC12F-4F71-48F4-8BCC-5A4E2BA3ACE6
SUMMARY:Préparation des Commandes CoopSco
CREATED:20250525T103716Z
DTSTAMP:20250525T103716Z
DESCRIPTION:Venez nombreux nous aider à préparer les commandes de fournitures. Vous aurez même le droit de repartir avec votre commande avant tout le monde. Inscrivez-vous ici.
X-ALT-DESC;FMTTYPE=text/html:<p>Venez nombreux nous aider à préparer les commandes de fournitures. Vous aurez même le droit de repartir avec votre commande avant tout le monde.&nbsp;<a href="https://docs.google.com/forms/d/e/1FAIpQLScWRN7cRzf8A2ImdL6zYMyPY5USgx2CfDWLfyhmgCKEhZGGjw/viewform?usp=header">Inscrivez-vous ici</a>.</p>
LAST-MODIFIED:20250525T104837Z
SEQUENCE:681
X-ACCESS:1
X-HITS:578
X-URL:https://docs.google.com/forms/d/e/1FAIpQLScWRN7cRzf8A2ImdL6zYMyPY5USgx2CfDWLfyhmgCKEhZGGjw/viewform?usp=header
X-COLOR:A1BECC
X-SHOW-END-TIME:1
END:VEVENT
BEGIN:VEVENT
DTSTART;TZID=UTC:20250827T140000
DTEND;TZID=UTC:20250827T170000
UID:771ADE66-C5C8-4A0F-8A6E-05B55C938402
SUMMARY:Récupération des commandes CoopSco
CREATED:20250525T102837Z
DTSTAMP:20250525T102837Z
DESCRIPTION:Vos commandes de fournitures CoopSco sont à venir chercher au collège
X-ALT-DESC;FMTTYPE=text/html:<p>Vos commandes de fournitures CoopSco sont à venir chercher au collège</p>
X-ACCESS:1
X-HITS:596
X-URL:https://fse-cooperativescolaire-amailloux.com/index.php?option=com_dpcalendar&view=event&id=63&Itemid=122
X-COLOR:A1BECC
X-SHOW-END-TIME:1
END:VEVENT
BEGIN:VEVENT
DTSTART;TZID=UTC:20250828T160000
DTEND;TZID=UTC:20250828T200000
UID:C766CDAC-C5C3-4F9D-A0D0-65D1A5CDAEE2
SUMMARY:Récupération des commandes CoopSco
CREATED:20250525T103038Z
DTSTAMP:20250525T103038Z
DESCRIPTION:Vos commandes de fournitures CoopSco sont à venir chercher au collège
X-ALT-DESC;FMTTYPE=text/html:<p>Vos commandes de fournitures CoopSco sont à venir chercher au collège</p>
LAST-MODIFIED:20250525T103306Z
SEQUENCE:148
X-ACCESS:1
X-HITS:571
X-URL:https://fse-cooperativescolaire-amailloux.com/index.php?option=com_dpcalendar&view=event&id=64&Itemid=122
X-COLOR:A1BECC
X-SHOW-END-TIME:1
END:VEVENT
BEGIN:VEVENT
DTSTART;TZID=UTC:20250829T170000
DTEND;TZID=UTC:20250829T190000
UID:826059F2-9763-4EBC-AB74-BB33060B8189
SUMMARY:Récupération des commandes CoopSco
CREATED:20250525T103142Z
DTSTAMP:20250525T103142Z
DESCRIPTION:Vos commandes de fournitures CoopSco sont à venir chercher au collège
X-ALT-DESC;FMTTYPE=text/html:<p>Vos commandes de fournitures CoopSco sont à venir chercher au collège</p>
X-ACCESS:1
X-HITS:545
X-URL:https://fse-cooperativescolaire-amailloux.com/index.php?option=com_dpcalendar&view=event&id=65&Itemid=122
X-COLOR:A1BECC
X-SHOW-END-TIME:1
END:VEVENT
END:VCALENDAR